BEGIN:VCALENDAR
VERSION:2.0
PRODID:-//Oakland City University - ECPv6.15.17.1//NONSGML v1.0//EN
CALSCALE:GREGORIAN
METHOD:PUBLISH
X-WR-CALNAME:Oakland City University
X-ORIGINAL-URL:https://www.oak.edu
X-WR-CALDESC:Events for Oakland City University
REFRESH-INTERVAL;VALUE=DURATION:PT1H
X-Robots-Tag:noindex
X-PUBLISHED-TTL:PT1H
BEGIN:VTIMEZONE
TZID:America/Chicago
BEGIN:DAYLIGHT
TZOFFSETFROM:-0600
TZOFFSETTO:-0500
TZNAME:CDT
DTSTART:20210314T080000
END:DAYLIGHT
BEGIN:STANDARD
TZOFFSETFROM:-0500
TZOFFSETTO:-0600
TZNAME:CST
DTSTART:20211107T070000
END:STANDARD
BEGIN:DAYLIGHT
TZOFFSETFROM:-0600
TZOFFSETTO:-0500
TZNAME:CDT
DTSTART:20220313T080000
END:DAYLIGHT
BEGIN:STANDARD
TZOFFSETFROM:-0500
TZOFFSETTO:-0600
TZNAME:CST
DTSTART:20221106T070000
END:STANDARD
BEGIN:DAYLIGHT
TZOFFSETFROM:-0600
TZOFFSETTO:-0500
TZNAME:CDT
DTSTART:20230312T080000
END:DAYLIGHT
BEGIN:STANDARD
TZOFFSETFROM:-0500
TZOFFSETTO:-0600
TZNAME:CST
DTSTART:20231105T070000
END:STANDARD
END:VTIMEZONE
BEGIN:VEVENT
DTSTART;VALUE=DATE:20221104
DTEND;VALUE=DATE:20221105
DTSTAMP:20260425T223356
CREATED:20220907T185629Z
LAST-MODIFIED:20221104T231324Z
UID:10000520-1667520000-1667606399@www.oak.edu
SUMMARY:OCU Giving Day
DESCRIPTION:
URL:https://www.oak.edu/event/ocu-giving-day/
END:VEVENT
BEGIN:VEVENT
DTSTART;TZID=America/Chicago:20221104T110000
DTEND;TZID=America/Chicago:20221104T130000
DTSTAMP:20260425T223356
CREATED:20220907T185628Z
LAST-MODIFIED:20221104T175753Z
UID:10000518-1667559600-1667566800@www.oak.edu
SUMMARY:Founders' Day Celebratory Gathering
DESCRIPTION:
URL:https://www.oak.edu/event/founders-day-celebratory-gathering-2/
LOCATION:Johnson Center\, 705 N Franklin St\, Oakland City\, IN 47660\, USA
END:VEVENT
BEGIN:VEVENT
DTSTART;TZID=America/Chicago:20221104T180000
DTEND;TZID=America/Chicago:20221104T220000
DTSTAMP:20260425T223356
CREATED:20220907T185629Z
LAST-MODIFIED:20221105T024336Z
UID:10000519-1667584800-1667599200@www.oak.edu
SUMMARY:Fall Gospel Concert
DESCRIPTION:OCU Fall Gospel Concert featuring The Hoppers & The IsaacsTickets available to purchase online at: https://www.shopmyocustore.com/
URL:https://www.oak.edu/event/fall-gospel-concert-2/
LOCATION:Johnson Center\, 705 N Franklin St\, Oakland City\, IN 47660\, USA
END:VEVENT
BEGIN:VEVENT
DTSTART;TZID=America/Chicago:20221105T170000
DTEND;TZID=America/Chicago:20221105T200000
DTSTAMP:20260425T223356
CREATED:20220809T152829Z
LAST-MODIFIED:20221105T232746Z
UID:10000421-1667667600-1667678400@www.oak.edu
SUMMARY:Fall at Cockrum Hall
DESCRIPTION:Join us for a free community wide soup and chili dinner! This event will have fun activities for people of all ages. It’s a great opportunity for community members\, students\, faculty\, and staff to get to know each other and enjoy fun and fellowship.
URL:https://www.oak.edu/event/fall-at-cockrum-hall-2/
LOCATION:Cockrum Hall
END:VEVENT
BEGIN:VEVENT
DTSTART;TZID=America/Chicago:20221111T100000
DTEND;TZID=America/Chicago:20221111T140000
DTSTAMP:20260425T223356
CREATED:20221006T181249Z
LAST-MODIFIED:20221111T195741Z
UID:10000423-1668160800-1668175200@www.oak.edu
SUMMARY:Operation Christmas Child Packing Party
DESCRIPTION:Join your Student Government Officers and the Office of Community Engagement as we pack Christmas shoe boxes for Operation Christmas Child!
URL:https://www.oak.edu/event/operation-christmas-child-packing-party/
LOCATION:Holy Grounds\, 700 Sherman St\, Oakland City\, IN 47660\, USA
END:VEVENT
END:VCALENDAR