BEGIN:VCALENDAR
VERSION:2.0
PRODID:-//Oakland City University - ECPv6.15.17.1//NONSGML v1.0//EN
CALSCALE:GREGORIAN
METHOD:PUBLISH
X-WR-CALNAME:Oakland City University
X-ORIGINAL-URL:https://www.oak.edu
X-WR-CALDESC:Events for Oakland City University
REFRESH-INTERVAL;VALUE=DURATION:PT1H
X-Robots-Tag:noindex
X-PUBLISHED-TTL:PT1H
BEGIN:VTIMEZONE
TZID:America/Chicago
BEGIN:DAYLIGHT
TZOFFSETFROM:-0600
TZOFFSETTO:-0500
TZNAME:CDT
DTSTART:20200308T080000
END:DAYLIGHT
BEGIN:STANDARD
TZOFFSETFROM:-0500
TZOFFSETTO:-0600
TZNAME:CST
DTSTART:20201101T070000
END:STANDARD
BEGIN:DAYLIGHT
TZOFFSETFROM:-0600
TZOFFSETTO:-0500
TZNAME:CDT
DTSTART:20210314T080000
END:DAYLIGHT
BEGIN:STANDARD
TZOFFSETFROM:-0500
TZOFFSETTO:-0600
TZNAME:CST
DTSTART:20211107T070000
END:STANDARD
BEGIN:DAYLIGHT
TZOFFSETFROM:-0600
TZOFFSETTO:-0500
TZNAME:CDT
DTSTART:20220313T080000
END:DAYLIGHT
BEGIN:STANDARD
TZOFFSETFROM:-0500
TZOFFSETTO:-0600
TZNAME:CST
DTSTART:20221106T070000
END:STANDARD
END:VTIMEZONE
BEGIN:VEVENT
DTSTART;VALUE=DATE:20210628
DTEND;VALUE=DATE:20210703
DTSTAMP:20260422T121137
CREATED:20210419T180913Z
LAST-MODIFIED:20210702T225747Z
UID:10000311-1624838400-1625270399@www.oak.edu
SUMMARY:Upward Bound Summer Academy
DESCRIPTION:
URL:https://www.oak.edu/event/upward-bound-summer-academy-4/
END:VEVENT
BEGIN:VEVENT
DTSTART;VALUE=DATE:20210702
DTEND;VALUE=DATE:20210703
DTSTAMP:20260422T121137
CREATED:20210419T180913Z
LAST-MODIFIED:20210702T225747Z
UID:10000312-1625184000-1625270399@www.oak.edu
SUMMARY:Summer Hours - Offices Closed
DESCRIPTION:Offices are closed for summer hours.
URL:https://www.oak.edu/event/summer-hours-offices-closed-7/
END:VEVENT
BEGIN:VEVENT
DTSTART;VALUE=DATE:20210705
DTEND;VALUE=DATE:20210710
DTSTAMP:20260422T121137
CREATED:20210419T180925Z
LAST-MODIFIED:20210709T231303Z
UID:10000313-1625443200-1625875199@www.oak.edu
SUMMARY:Upward Bound Summer Academy
DESCRIPTION:
URL:https://www.oak.edu/event/upward-bound-summer-academy-5/
END:VEVENT
BEGIN:VEVENT
DTSTART;VALUE=DATE:20210709
DTEND;VALUE=DATE:20210710
DTSTAMP:20260422T121137
CREATED:20210419T180925Z
LAST-MODIFIED:20210709T231303Z
UID:10000314-1625788800-1625875199@www.oak.edu
SUMMARY:Summer Hours - Offices Closed
DESCRIPTION:Offices are closed for summer hours.
URL:https://www.oak.edu/event/summer-hours-offices-closed-8/
END:VEVENT
BEGIN:VEVENT
DTSTART;VALUE=DATE:20210712
DTEND;VALUE=DATE:20210717
DTSTAMP:20260422T121137
CREATED:20210419T180925Z
LAST-MODIFIED:20210716T231306Z
UID:10000315-1626048000-1626479999@www.oak.edu
SUMMARY:Upward Bound Summer Academy
DESCRIPTION:
URL:https://www.oak.edu/event/upward-bound-summer-academy-6/
END:VEVENT
BEGIN:VEVENT
DTSTART;VALUE=DATE:20210716
DTEND;VALUE=DATE:20210717
DTSTAMP:20260422T121137
CREATED:20210419T180925Z
LAST-MODIFIED:20210716T231306Z
UID:10000316-1626393600-1626479999@www.oak.edu
SUMMARY:Summer Hours - Offices Closed
DESCRIPTION:Offices are closed for summer hours.
URL:https://www.oak.edu/event/summer-hours-offices-closed-9/
END:VEVENT
BEGIN:VEVENT
DTSTART;VALUE=DATE:20210719
DTEND;VALUE=DATE:20210724
DTSTAMP:20260422T121137
CREATED:20210712T195636Z
LAST-MODIFIED:20210723T235636Z
UID:10000347-1626652800-1627084799@www.oak.edu
SUMMARY:RHD Training
DESCRIPTION:Training for all Resident Hall Directors for 8am-6pm each day.
URL:https://www.oak.edu/event/rhd-training/
END:VEVENT
BEGIN:VEVENT
DTSTART;TZID=America/Chicago:20210723T090000
DTEND;TZID=America/Chicago:20210723T140000
DTSTAMP:20260422T121137
CREATED:20210424T004224Z
LAST-MODIFIED:20210723T175834Z
UID:10000320-1627030800-1627048800@www.oak.edu
SUMMARY:Transfer Student Accepted Student Day
DESCRIPTION:During Accepted Student Day (ASD) you and your parent(s)/guest(s) will come to campus and meet with faculty\, staff\, and current OCU students. We have some exciting activities planned so be ready to have some fun.  Please make sure to fill out all forms and return to the Admissions Office before arriving on campus.  If you will be living on campus please be sure to pay your housing deposit!      \nRegister Now
URL:https://www.oak.edu/event/transfer-student-accepted-student-day/
END:VEVENT
BEGIN:VEVENT
DTSTART;TZID=America/Chicago:20210723T090000
DTEND;TZID=America/Chicago:20210723T140000
DTSTAMP:20260422T121137
CREATED:20210625T175746Z
LAST-MODIFIED:20210723T175833Z
UID:10000272-1627030800-1627048800@www.oak.edu
SUMMARY:Accepted Student Day
DESCRIPTION:Register Here – https://apply.oak.edu/register/ftf_july232021
URL:https://www.oak.edu/event/accepted-student-day-4/
END:VEVENT
BEGIN:VEVENT
DTSTART;VALUE=DATE:20210726
DTEND;VALUE=DATE:20210731
DTSTAMP:20260422T121137
CREATED:20210712T195637Z
LAST-MODIFIED:20210730T235755Z
UID:10000348-1627257600-1627689599@www.oak.edu
SUMMARY:RHD Training
DESCRIPTION:Training for all Resident Hall Directors for 8am-6pm each day.
URL:https://www.oak.edu/event/rhd-training-2/
END:VEVENT
BEGIN:VEVENT
DTSTART;VALUE=DATE:20210730
DTEND;VALUE=DATE:20210731
DTSTAMP:20260422T121137
CREATED:20210501T005720Z
LAST-MODIFIED:20210730T235755Z
UID:10000321-1627603200-1627689599@www.oak.edu
SUMMARY:Summer Hours - Offices Closed
DESCRIPTION:Offices are closed for summer hours.
URL:https://www.oak.edu/event/summer-hours-offices-closed-10/
END:VEVENT
END:VCALENDAR