BEGIN:VCALENDAR
VERSION:2.0
PRODID:-//Oakland City University - ECPv6.15.17.1//NONSGML v1.0//EN
CALSCALE:GREGORIAN
METHOD:PUBLISH
X-WR-CALNAME:Oakland City University
X-ORIGINAL-URL:https://www.oak.edu
X-WR-CALDESC:Events for Oakland City University
REFRESH-INTERVAL;VALUE=DURATION:PT1H
X-Robots-Tag:noindex
X-PUBLISHED-TTL:PT1H
BEGIN:VTIMEZONE
TZID:America/Chicago
BEGIN:DAYLIGHT
TZOFFSETFROM:-0600
TZOFFSETTO:-0500
TZNAME:CDT
DTSTART:20240310T080000
END:DAYLIGHT
BEGIN:STANDARD
TZOFFSETFROM:-0500
TZOFFSETTO:-0600
TZNAME:CST
DTSTART:20241103T070000
END:STANDARD
BEGIN:DAYLIGHT
TZOFFSETFROM:-0600
TZOFFSETTO:-0500
TZNAME:CDT
DTSTART:20250309T080000
END:DAYLIGHT
BEGIN:STANDARD
TZOFFSETFROM:-0500
TZOFFSETTO:-0600
TZNAME:CST
DTSTART:20251102T070000
END:STANDARD
BEGIN:DAYLIGHT
TZOFFSETFROM:-0600
TZOFFSETTO:-0500
TZNAME:CDT
DTSTART:20260308T080000
END:DAYLIGHT
BEGIN:STANDARD
TZOFFSETFROM:-0500
TZOFFSETTO:-0600
TZNAME:CST
DTSTART:20261101T070000
END:STANDARD
END:VTIMEZONE
BEGIN:VEVENT
DTSTART;TZID=America/Chicago:20250806T113000
DTEND;TZID=America/Chicago:20250806T140000
DTSTAMP:20260425T070912
CREATED:20250623T154545Z
LAST-MODIFIED:20250709T150143Z
UID:10001089-1754479800-1754488800@www.oak.edu
SUMMARY:Kona Ice Food Truck
DESCRIPTION:Students can enjoy a Kona Sno Cone on the first day of classes.
URL:https://www.oak.edu/event/kona-ice-food-truck/
LOCATION:Lucretia Street in front of Murray Administration Center
ORGANIZER;CN="cwoolsey@oak.edu":MAILTO:cwoolsey@oak.edu
END:VEVENT
BEGIN:VEVENT
DTSTART;TZID=America/Chicago:20250806T113000
DTEND;TZID=America/Chicago:20250806T140000
DTSTAMP:20260425T070912
CREATED:20250728T170001Z
LAST-MODIFIED:20250806T184442Z
UID:10001104-1754479800-1754488800@www.oak.edu
SUMMARY:Hannah Mae's Lemonade Stand
DESCRIPTION:
URL:https://www.oak.edu/event/hannah-maes-lemonade-stand/
LOCATION:Clock Tower
ORGANIZER;CN="cwoolsey@oak.edu":MAILTO:cwoolsey@oak.edu
END:VEVENT
BEGIN:VEVENT
DTSTART;TZID=America/Chicago:20250806T180000
DTEND;TZID=America/Chicago:20250806T200000
DTSTAMP:20260425T070912
CREATED:20250623T154546Z
LAST-MODIFIED:20250807T001510Z
UID:10001090-1754503200-1754510400@www.oak.edu
SUMMARY:Poppin Johns Ice Cream Truck
DESCRIPTION:
URL:https://www.oak.edu/event/poppin-johns-ice-cream-truck/
LOCATION:Dearing Parking Lot
ORGANIZER;CN="cwoolsey@oak.edu":MAILTO:cwoolsey@oak.edu
END:VEVENT
END:VCALENDAR