BEGIN:VCALENDAR
VERSION:2.0
PRODID:-//Oakland City University - ECPv6.15.17.1//NONSGML v1.0//EN
CALSCALE:GREGORIAN
METHOD:PUBLISH
X-ORIGINAL-URL:https://www.oak.edu
X-WR-CALDESC:Events for Oakland City University
REFRESH-INTERVAL;VALUE=DURATION:PT1H
X-Robots-Tag:noindex
X-PUBLISHED-TTL:PT1H
BEGIN:VTIMEZONE
TZID:America/Chicago
BEGIN:DAYLIGHT
TZOFFSETFROM:-0600
TZOFFSETTO:-0500
TZNAME:CDT
DTSTART:20240310T080000
END:DAYLIGHT
BEGIN:STANDARD
TZOFFSETFROM:-0500
TZOFFSETTO:-0600
TZNAME:CST
DTSTART:20241103T070000
END:STANDARD
BEGIN:DAYLIGHT
TZOFFSETFROM:-0600
TZOFFSETTO:-0500
TZNAME:CDT
DTSTART:20250309T080000
END:DAYLIGHT
BEGIN:STANDARD
TZOFFSETFROM:-0500
TZOFFSETTO:-0600
TZNAME:CST
DTSTART:20251102T070000
END:STANDARD
BEGIN:DAYLIGHT
TZOFFSETFROM:-0600
TZOFFSETTO:-0500
TZNAME:CDT
DTSTART:20260308T080000
END:DAYLIGHT
BEGIN:STANDARD
TZOFFSETFROM:-0500
TZOFFSETTO:-0600
TZNAME:CST
DTSTART:20261101T070000
END:STANDARD
END:VTIMEZONE
BEGIN:VEVENT
DTSTART;TZID=America/Chicago:20250428T110000
DTEND;TZID=America/Chicago:20250428T120000
DTSTAMP:20260425T134703
CREATED:20250128T011549Z
LAST-MODIFIED:20250428T161445Z
UID:10001004-1745838000-1745841600@www.oak.edu
SUMMARY:SGA/CAB Meeting
DESCRIPTION:
URL:https://www.oak.edu/event/sga-cab-meeting-7/
ORGANIZER;CN="cwoolsey@oak.edu":MAILTO:cwoolsey@oak.edu
END:VEVENT
BEGIN:VEVENT
DTSTART;TZID=America/Chicago:20250428T180000
DTEND;TZID=America/Chicago:20250428T210000
DTSTAMP:20260425T134703
CREATED:20250422T161524Z
LAST-MODIFIED:20250429T015950Z
UID:10001052-1745863200-1745874000@www.oak.edu
SUMMARY:Oakies Banquet
DESCRIPTION:
URL:https://www.oak.edu/event/oakies-banquet/
LOCATION:Johnson Center (705 S Franklin St\, Oakland City\, IN 47660\, United States)
ORGANIZER;CN="cwoolsey@oak.edu":MAILTO:cwoolsey@oak.edu
END:VEVENT
BEGIN:VEVENT
DTSTART;TZID=America/Chicago:20250428T183000
DTEND;TZID=America/Chicago:20250428T203000
DTSTAMP:20260425T134703
CREATED:20250423T214448Z
LAST-MODIFIED:20250429T004823Z
UID:10001053-1745865000-1745872200@www.oak.edu
SUMMARY:End of School Bash
DESCRIPTION:
URL:https://www.oak.edu/event/end-of-school-bash/
LOCATION:Grassy Knoll
ORGANIZER;CN="cwoolsey@oak.edu":MAILTO:cwoolsey@oak.edu
END:VEVENT
END:VCALENDAR