BEGIN:VCALENDAR
VERSION:2.0
PRODID:-//Oakland City University - ECPv6.15.17.1//NONSGML v1.0//EN
CALSCALE:GREGORIAN
METHOD:PUBLISH
X-ORIGINAL-URL:https://www.oak.edu
X-WR-CALDESC:Events for Oakland City University
REFRESH-INTERVAL;VALUE=DURATION:PT1H
X-Robots-Tag:noindex
X-PUBLISHED-TTL:PT1H
BEGIN:VTIMEZONE
TZID:America/Chicago
BEGIN:DAYLIGHT
TZOFFSETFROM:-0600
TZOFFSETTO:-0500
TZNAME:CDT
DTSTART:20230312T080000
END:DAYLIGHT
BEGIN:STANDARD
TZOFFSETFROM:-0500
TZOFFSETTO:-0600
TZNAME:CST
DTSTART:20231105T070000
END:STANDARD
BEGIN:DAYLIGHT
TZOFFSETFROM:-0600
TZOFFSETTO:-0500
TZNAME:CDT
DTSTART:20240310T080000
END:DAYLIGHT
BEGIN:STANDARD
TZOFFSETFROM:-0500
TZOFFSETTO:-0600
TZNAME:CST
DTSTART:20241103T070000
END:STANDARD
BEGIN:DAYLIGHT
TZOFFSETFROM:-0600
TZOFFSETTO:-0500
TZNAME:CDT
DTSTART:20250309T080000
END:DAYLIGHT
BEGIN:STANDARD
TZOFFSETFROM:-0500
TZOFFSETTO:-0600
TZNAME:CST
DTSTART:20251102T070000
END:STANDARD
END:VTIMEZONE
BEGIN:VEVENT
DTSTART;TZID=America/Chicago:20241021T180000
DTEND;TZID=America/Chicago:20241021T183000
DTSTAMP:20260425T115957
CREATED:20240925T201506Z
LAST-MODIFIED:20241021T224733Z
UID:10000937-1729533600-1729535400@www.oak.edu
SUMMARY:Movie Night hosted by the Coffee Club
DESCRIPTION:The Coffee Club is hosting a Movie Night every Monday night until the end of the semester.  They will be watching the Harry Potter movies (one per week).  Come out and enjoy magical themed snacks\, meet new people\, and relax!
URL:https://www.oak.edu/event/movie-night-hosted-by-the-coffee-club-4/
LOCATION:Holy Grounds (700 Sherman St\, Oakland City\, IN 47660\, United States)
ORGANIZER;CN="cwoolsey@oak.edu":MAILTO:cwoolsey@oak.edu
END:VEVENT
BEGIN:VEVENT
DTSTART;TZID=America/Chicago:20241021T190000
DTEND;TZID=America/Chicago:20241021T220000
DTSTAMP:20260425T115957
CREATED:20240910T204554Z
LAST-MODIFIED:20240916T133252Z
UID:10000888-1729537200-1729548000@www.oak.edu
SUMMARY:Intramural Kickball
DESCRIPTION:Teams will compete in a round robin tournament.  Rain Location:  Tichenor Center
URL:https://www.oak.edu/event/intramural-kickball-9/
LOCATION:Grassy Knoll
ORGANIZER;CN="cwoolsey@oak.edu":MAILTO:cwoolsey@oak.edu
END:VEVENT
END:VCALENDAR