BEGIN:VCALENDAR
VERSION:2.0
PRODID:-//Oakland City University - ECPv6.15.17.1//NONSGML v1.0//EN
CALSCALE:GREGORIAN
METHOD:PUBLISH
X-WR-CALNAME:Oakland City University
X-ORIGINAL-URL:https://www.oak.edu
X-WR-CALDESC:Events for Oakland City University
REFRESH-INTERVAL;VALUE=DURATION:PT1H
X-Robots-Tag:noindex
X-PUBLISHED-TTL:PT1H
BEGIN:VTIMEZONE
TZID:America/Chicago
BEGIN:DAYLIGHT
TZOFFSETFROM:-0600
TZOFFSETTO:-0500
TZNAME:CDT
DTSTART:20230312T080000
END:DAYLIGHT
BEGIN:STANDARD
TZOFFSETFROM:-0500
TZOFFSETTO:-0600
TZNAME:CST
DTSTART:20231105T070000
END:STANDARD
BEGIN:DAYLIGHT
TZOFFSETFROM:-0600
TZOFFSETTO:-0500
TZNAME:CDT
DTSTART:20240310T080000
END:DAYLIGHT
BEGIN:STANDARD
TZOFFSETFROM:-0500
TZOFFSETTO:-0600
TZNAME:CST
DTSTART:20241103T070000
END:STANDARD
BEGIN:DAYLIGHT
TZOFFSETFROM:-0600
TZOFFSETTO:-0500
TZNAME:CDT
DTSTART:20250309T080000
END:DAYLIGHT
BEGIN:STANDARD
TZOFFSETFROM:-0500
TZOFFSETTO:-0600
TZNAME:CST
DTSTART:20251102T070000
END:STANDARD
END:VTIMEZONE
BEGIN:VEVENT
DTSTART;TZID=America/Chicago:20240422T183000
DTEND;TZID=America/Chicago:20240422T193000
DTSTAMP:20260425T203814
CREATED:20240123T003027Z
LAST-MODIFIED:20240423T001441Z
UID:10000725-1713810600-1713814200@www.oak.edu
SUMMARY:InterVarsity Bible Study
DESCRIPTION:Join InterVarsity each Monday evening in SLC 116 for Bible reading and discussion.  Snacks will be provided.
URL:https://www.oak.edu/event/intervarsity-bible-study-15/
LOCATION:Student Life Center – OCU\, 700 Sherman St\, Oakland City\, IN 47660\, USA
END:VEVENT
BEGIN:VEVENT
DTSTART;TZID=America/Chicago:20240422T200000
DTEND;TZID=America/Chicago:20240422T220000
DTSTAMP:20260425T203814
CREATED:20240206T170113Z
LAST-MODIFIED:20240423T021440Z
UID:10000771-1713816000-1713823200@www.oak.edu
SUMMARY:Streaming Night
DESCRIPTION:Join the Comic Con Club to stream your favorite movies and shows in the Procrastination Station.
URL:https://www.oak.edu/event/streaming-night-13/
LOCATION:Student Life Center – OCU\, 700 Sherman St\, Oakland City\, IN 47660\, USA
END:VEVENT
BEGIN:VEVENT
DTSTART;TZID=America/Chicago:20240422T200000
DTEND;TZID=America/Chicago:20240422T220000
DTSTAMP:20260425T203814
CREATED:20240206T170115Z
LAST-MODIFIED:20240206T170115Z
UID:10000767-1713816000-1713823200@www.oak.edu
SUMMARY:Streaming Night
DESCRIPTION:Join the Comic Con Club to stream your favorite movies and shows in the Procrastination Station.
URL:https://www.oak.edu/event/streaming-night-14/
LOCATION:Student Life Center – OCU\, 699 Sherman St\, Oakland City\, IN\, United States
GEO:38.340541;-87.350917
X-APPLE-STRUCTURED-LOCATION;VALUE=URI;X-ADDRESS=Student Life Center – OCU 699 Sherman St Oakland City IN United States;X-APPLE-RADIUS=500;X-TITLE=699 Sherman St:geo:-87.350917,38.340541
END:VEVENT
END:VCALENDAR