BEGIN:VCALENDAR
VERSION:2.0
PRODID:-//Oakland City University - ECPv6.15.17.1//NONSGML v1.0//EN
CALSCALE:GREGORIAN
METHOD:PUBLISH
X-WR-CALNAME:Oakland City University
X-ORIGINAL-URL:https://www.oak.edu
X-WR-CALDESC:Events for Oakland City University
REFRESH-INTERVAL;VALUE=DURATION:PT1H
X-Robots-Tag:noindex
X-PUBLISHED-TTL:PT1H
BEGIN:VTIMEZONE
TZID:America/Chicago
BEGIN:DAYLIGHT
TZOFFSETFROM:-0600
TZOFFSETTO:-0500
TZNAME:CDT
DTSTART:20210314T080000
END:DAYLIGHT
BEGIN:STANDARD
TZOFFSETFROM:-0500
TZOFFSETTO:-0600
TZNAME:CST
DTSTART:20211107T070000
END:STANDARD
BEGIN:DAYLIGHT
TZOFFSETFROM:-0600
TZOFFSETTO:-0500
TZNAME:CDT
DTSTART:20220313T080000
END:DAYLIGHT
BEGIN:STANDARD
TZOFFSETFROM:-0500
TZOFFSETTO:-0600
TZNAME:CST
DTSTART:20221106T070000
END:STANDARD
BEGIN:DAYLIGHT
TZOFFSETFROM:-0600
TZOFFSETTO:-0500
TZNAME:CDT
DTSTART:20230312T080000
END:DAYLIGHT
BEGIN:STANDARD
TZOFFSETFROM:-0500
TZOFFSETTO:-0600
TZNAME:CST
DTSTART:20231105T070000
END:STANDARD
END:VTIMEZONE
BEGIN:VEVENT
DTSTART;VALUE=DATE:20220404
DTEND;VALUE=DATE:20220408
DTSTAMP:20260425T115902
CREATED:20220210T190207Z
LAST-MODIFIED:20220407T234254Z
UID:10000370-1649030400-1649375999@www.oak.edu
SUMMARY:Spring Fling Week
DESCRIPTION:
URL:https://www.oak.edu/event/spring-fling-week/
END:VEVENT
BEGIN:VEVENT
DTSTART;TZID=America/Chicago:20220404T170000
DTEND;TZID=America/Chicago:20220404T210000
DTSTAMP:20260425T115902
CREATED:20220329T194143Z
LAST-MODIFIED:20220405T012637Z
UID:10000490-1649091600-1649106000@www.oak.edu
SUMMARY:NCAA Tourney Party
DESCRIPTION:Join Student Activities in the Underground to watch the tournament.
URL:https://www.oak.edu/event/ncaa-tourney-party/
LOCATION:Student Life Center – OCU\, 700 Sherman St\, Oakland City\, IN 47660\, USA
END:VEVENT
END:VCALENDAR