BEGIN:VCALENDAR
VERSION:2.0
PRODID:-//Oakland City University - ECPv6.15.17.1//NONSGML v1.0//EN
CALSCALE:GREGORIAN
METHOD:PUBLISH
X-ORIGINAL-URL:https://www.oak.edu
X-WR-CALDESC:Events for Oakland City University
REFRESH-INTERVAL;VALUE=DURATION:PT1H
X-Robots-Tag:noindex
X-PUBLISHED-TTL:PT1H
BEGIN:VTIMEZONE
TZID:America/Chicago
BEGIN:DAYLIGHT
TZOFFSETFROM:-0600
TZOFFSETTO:-0500
TZNAME:CDT
DTSTART:20210314T080000
END:DAYLIGHT
BEGIN:STANDARD
TZOFFSETFROM:-0500
TZOFFSETTO:-0600
TZNAME:CST
DTSTART:20211107T070000
END:STANDARD
BEGIN:DAYLIGHT
TZOFFSETFROM:-0600
TZOFFSETTO:-0500
TZNAME:CDT
DTSTART:20220313T080000
END:DAYLIGHT
BEGIN:STANDARD
TZOFFSETFROM:-0500
TZOFFSETTO:-0600
TZNAME:CST
DTSTART:20221106T070000
END:STANDARD
BEGIN:DAYLIGHT
TZOFFSETFROM:-0600
TZOFFSETTO:-0500
TZNAME:CDT
DTSTART:20230312T080000
END:DAYLIGHT
BEGIN:STANDARD
TZOFFSETFROM:-0500
TZOFFSETTO:-0600
TZNAME:CST
DTSTART:20231105T070000
END:STANDARD
END:VTIMEZONE
BEGIN:VEVENT
DTSTART;TZID=America/Chicago:20220330T110000
DTEND;TZID=America/Chicago:20220330T113000
DTSTAMP:20260421T135943
CREATED:20220210T190206Z
LAST-MODIFIED:20220330T161207Z
UID:10000469-1648638000-1648639800@www.oak.edu
SUMMARY:Chapel
DESCRIPTION:
URL:https://www.oak.edu/event/chapel-9/
END:VEVENT
BEGIN:VEVENT
DTSTART;TZID=America/Chicago:20220330T130000
DTEND;TZID=America/Chicago:20220330T180000
DTSTAMP:20260421T135943
CREATED:20220210T190206Z
LAST-MODIFIED:20220330T224134Z
UID:10000368-1648645200-1648663200@www.oak.edu
SUMMARY:Baseball v. Harris-Stowe State Double Header
DESCRIPTION:
URL:https://www.oak.edu/event/baseball-v-harris-stowe-state-double-header/
LOCATION:Pinnick Field
END:VEVENT
END:VCALENDAR