BEGIN:VCALENDAR
VERSION:2.0
PRODID:-//Oakland City University - ECPv6.15.17.1//NONSGML v1.0//EN
CALSCALE:GREGORIAN
METHOD:PUBLISH
X-ORIGINAL-URL:https://www.oak.edu
X-WR-CALDESC:Events for Oakland City University
REFRESH-INTERVAL;VALUE=DURATION:PT1H
X-Robots-Tag:noindex
X-PUBLISHED-TTL:PT1H
BEGIN:VTIMEZONE
TZID:America/Chicago
BEGIN:DAYLIGHT
TZOFFSETFROM:-0600
TZOFFSETTO:-0500
TZNAME:CDT
DTSTART:20210314T080000
END:DAYLIGHT
BEGIN:STANDARD
TZOFFSETFROM:-0500
TZOFFSETTO:-0600
TZNAME:CST
DTSTART:20211107T070000
END:STANDARD
BEGIN:DAYLIGHT
TZOFFSETFROM:-0600
TZOFFSETTO:-0500
TZNAME:CDT
DTSTART:20220313T080000
END:DAYLIGHT
BEGIN:STANDARD
TZOFFSETFROM:-0500
TZOFFSETTO:-0600
TZNAME:CST
DTSTART:20221106T070000
END:STANDARD
BEGIN:DAYLIGHT
TZOFFSETFROM:-0600
TZOFFSETTO:-0500
TZNAME:CDT
DTSTART:20230312T080000
END:DAYLIGHT
BEGIN:STANDARD
TZOFFSETFROM:-0500
TZOFFSETTO:-0600
TZNAME:CST
DTSTART:20231105T070000
END:STANDARD
END:VTIMEZONE
BEGIN:VEVENT
DTSTART;VALUE=DATE:20220321
DTEND;VALUE=DATE:20220325
DTSTAMP:20260425T170807
CREATED:20220210T190205Z
LAST-MODIFIED:20220210T190205Z
UID:10000465-1647820800-1648166399@www.oak.edu
SUMMARY:Hall Brawl
DESCRIPTION:
URL:https://www.oak.edu/event/hall-brawl/
END:VEVENT
BEGIN:VEVENT
DTSTART;VALUE=DATE:20220321
DTEND;VALUE=DATE:20220325
DTSTAMP:20260425T170807
CREATED:20220210T190205Z
LAST-MODIFIED:20220324T234141Z
UID:10000467-1647820800-1648166399@www.oak.edu
SUMMARY:Hall Brawl
DESCRIPTION:
URL:https://www.oak.edu/event/hall-brawl-2/
END:VEVENT
BEGIN:VEVENT
DTSTART;TZID=America/Chicago:20220323T110000
DTEND;TZID=America/Chicago:20220323T113000
DTSTAMP:20260425T170807
CREATED:20220210T190203Z
LAST-MODIFIED:20220323T161149Z
UID:10000464-1648033200-1648035000@www.oak.edu
SUMMARY:Chapel
DESCRIPTION:
URL:https://www.oak.edu/event/chapel-7/
END:VEVENT
BEGIN:VEVENT
DTSTART;TZID=America/Chicago:20220323T110000
DTEND;TZID=America/Chicago:20220323T113000
DTSTAMP:20260425T170807
CREATED:20220210T190205Z
LAST-MODIFIED:20220210T190205Z
UID:10000466-1648033200-1648035000@www.oak.edu
SUMMARY:Chapel
DESCRIPTION:
URL:https://www.oak.edu/event/chapel-8/
END:VEVENT
BEGIN:VEVENT
DTSTART;TZID=America/Chicago:20220323T190000
DTEND;TZID=America/Chicago:20220323T210000
DTSTAMP:20260425T170807
CREATED:20220301T145705Z
LAST-MODIFIED:20220324T011247Z
UID:10000478-1648062000-1648069200@www.oak.edu
SUMMARY:Hall Brawl Lip Sync Battle
DESCRIPTION:Join the SGA at 7PM on March 23rd in the OCU Cafeteria for our Lip Sync themed Hall Brawl challenge.  Come and represent your dorm!
URL:https://www.oak.edu/event/hall-brawl-lip-sync-battle/
LOCATION:Student Life Center – OCU\, 700 Sherman St\, Oakland City\, IN 47660\, USA
END:VEVENT
END:VCALENDAR