BEGIN:VCALENDAR
VERSION:2.0
PRODID:-//Oakland City University - ECPv6.15.17.1//NONSGML v1.0//EN
CALSCALE:GREGORIAN
METHOD:PUBLISH
X-WR-CALNAME:Oakland City University
X-ORIGINAL-URL:https://www.oak.edu
X-WR-CALDESC:Events for Oakland City University
REFRESH-INTERVAL;VALUE=DURATION:PT1H
X-Robots-Tag:noindex
X-PUBLISHED-TTL:PT1H
BEGIN:VTIMEZONE
TZID:America/Chicago
BEGIN:DAYLIGHT
TZOFFSETFROM:-0600
TZOFFSETTO:-0500
TZNAME:CDT
DTSTART:20210314T080000
END:DAYLIGHT
BEGIN:STANDARD
TZOFFSETFROM:-0500
TZOFFSETTO:-0600
TZNAME:CST
DTSTART:20211107T070000
END:STANDARD
BEGIN:DAYLIGHT
TZOFFSETFROM:-0600
TZOFFSETTO:-0500
TZNAME:CDT
DTSTART:20220313T080000
END:DAYLIGHT
BEGIN:STANDARD
TZOFFSETFROM:-0500
TZOFFSETTO:-0600
TZNAME:CST
DTSTART:20221106T070000
END:STANDARD
BEGIN:DAYLIGHT
TZOFFSETFROM:-0600
TZOFFSETTO:-0500
TZNAME:CDT
DTSTART:20230312T080000
END:DAYLIGHT
BEGIN:STANDARD
TZOFFSETFROM:-0500
TZOFFSETTO:-0600
TZNAME:CST
DTSTART:20231105T070000
END:STANDARD
END:VTIMEZONE
BEGIN:VEVENT
DTSTART;TZID=America/Chicago:20220213T110000
DTEND;TZID=America/Chicago:20220213T160000
DTSTAMP:20260423T135317
CREATED:20220210T190104Z
LAST-MODIFIED:20220213T215647Z
UID:10000329-1644750000-1644768000@www.oak.edu
SUMMARY:Baseball Double-Header
DESCRIPTION:
URL:https://www.oak.edu/event/baseball-double-header-2/
LOCATION:Pinnick Field
END:VEVENT
BEGIN:VEVENT
DTSTART;TZID=America/Chicago:20220213T170000
DTEND;TZID=America/Chicago:20220213T230000
DTSTAMP:20260423T135317
CREATED:20220210T190105Z
LAST-MODIFIED:20220214T035741Z
UID:10000331-1644771600-1644793200@www.oak.edu
SUMMARY:Superbowl Party
DESCRIPTION:Come to the Underground for our Superbowl Party.
URL:https://www.oak.edu/event/superbowl-party/
LOCATION:Student Life Center – OCU\, 700 Sherman St\, Oakland City\, IN 47660\, USA
END:VEVENT
END:VCALENDAR