BEGIN:VCALENDAR
VERSION:2.0
PRODID:-//Oakland City University - ECPv6.15.17.1//NONSGML v1.0//EN
CALSCALE:GREGORIAN
METHOD:PUBLISH
X-WR-CALNAME:Oakland City University
X-ORIGINAL-URL:https://www.oak.edu
X-WR-CALDESC:Events for Oakland City University
REFRESH-INTERVAL;VALUE=DURATION:PT1H
X-Robots-Tag:noindex
X-PUBLISHED-TTL:PT1H
BEGIN:VTIMEZONE
TZID:America/Chicago
BEGIN:DAYLIGHT
TZOFFSETFROM:-0600
TZOFFSETTO:-0500
TZNAME:CDT
DTSTART:20210314T080000
END:DAYLIGHT
BEGIN:STANDARD
TZOFFSETFROM:-0500
TZOFFSETTO:-0600
TZNAME:CST
DTSTART:20211107T070000
END:STANDARD
BEGIN:DAYLIGHT
TZOFFSETFROM:-0600
TZOFFSETTO:-0500
TZNAME:CDT
DTSTART:20220313T080000
END:DAYLIGHT
BEGIN:STANDARD
TZOFFSETFROM:-0500
TZOFFSETTO:-0600
TZNAME:CST
DTSTART:20221106T070000
END:STANDARD
BEGIN:DAYLIGHT
TZOFFSETFROM:-0600
TZOFFSETTO:-0500
TZNAME:CDT
DTSTART:20230312T080000
END:DAYLIGHT
BEGIN:STANDARD
TZOFFSETFROM:-0500
TZOFFSETTO:-0600
TZNAME:CST
DTSTART:20231105T070000
END:STANDARD
END:VTIMEZONE
BEGIN:VEVENT
DTSTART;VALUE=DATE:20220207
DTEND;VALUE=DATE:20220213
DTSTAMP:20260421T155321
CREATED:20220210T190102Z
LAST-MODIFIED:20220210T190102Z
UID:10000411-1644192000-1644710399@www.oak.edu
SUMMARY:Homecoming Week
DESCRIPTION:2.7.22 Hat Day: Wear a hat of your choice. \n2.8.22 Neon Day: Wear your bright colors during the day and at the basketball game in support for OCU.\nSGA: Free popcorn Faculty\, Staff\, Students Johnson Center 5:30 p.m. to 7:30 p.m. \n2.9.22 Mix Match Day: Wear clothes that do not match.\nPep Rally: Homecoming shirt handout\, activities\, and contests. Please come and show school spirit. Also\, faculty/staff that attend the pep rally will receive a free coffee voucher for the Holy Grounds.\nStudent vs F&S basketball game Johnson Center 12:30 p.m. to 1:30 p.m. \n2.10.22 Jersey Day: Wear your favorite team jersey.\nSGA: Free Candy Night Faculty\, Staff\, Students Johnson Center 7:00 p.m. \n2.11.22 OCU Spirit Day: Wear your OCU attire and enjoy casual Friday.\nBuild a Bear SLC Underground 10:00 a.m. to 4:00 p.m. \n2.12.22 Wear your homecoming shirts to the game. A shirt table will be set up if you don’t have a shirt.\nMen’s Basketball: Alice Lloyd College Johnson Center 1:00 p.m.\nHomecoming Ceremony Johnson Center between games\nWomen’s Basketball: Alice Lloyd College Johnson Center 3:30 p.m.
URL:https://www.oak.edu/event/homecoming-week/
END:VEVENT
BEGIN:VEVENT
DTSTART;VALUE=DATE:20220207
DTEND;VALUE=DATE:20220213
DTSTAMP:20260421T155321
CREATED:20220210T190103Z
LAST-MODIFIED:20220212T232648Z
UID:10000412-1644192000-1644710399@www.oak.edu
SUMMARY:Homecoming Week
DESCRIPTION:2.7.22 Hat Day: Wear a hat of your choice. \n2.8.22 Neon Day: Wear your bright colors during the day and at the basketball game in support for OCU.\nSGA: Free popcorn Faculty\, Staff\, Students Johnson Center 5:30 p.m. to 7:30 p.m. \n2.9.22 Mix Match Day: Wear clothes that do not match.\nPep Rally: Homecoming shirt handout\, activities\, and contests. Please come and show school spirit. Also\, faculty/staff that attend the pep rally will receive a free coffee voucher for the Holy Grounds.\nStudent vs F&S basketball game Johnson Center 12:30 p.m. to 1:30 p.m. \n2.10.22 Jersey Day: Wear your favorite team jersey.\nSGA: Free Candy Night Faculty\, Staff\, Students Johnson Center 7:00 p.m. \n2.11.22 OCU Spirit Day: Wear your OCU attire and enjoy casual Friday.\nBuild a Bear SLC Underground 10:00 a.m. to 4:00 p.m. \n2.12.22 Wear your homecoming shirts to the game. A shirt table will be set up if you don’t have a shirt.\nMen’s Basketball: Alice Lloyd College Johnson Center 1:00 p.m.\nHomecoming Ceremony Johnson Center between games\nWomen’s Basketball: Alice Lloyd College Johnson Center 3:30 p.m.
URL:https://www.oak.edu/event/homecoming-week-2/
END:VEVENT
BEGIN:VEVENT
DTSTART;TZID=America/Chicago:20220212T110000
DTEND;TZID=America/Chicago:20220212T160000
DTSTAMP:20260421T155321
CREATED:20220210T190104Z
LAST-MODIFIED:20220212T212931Z
UID:10000428-1644663600-1644681600@www.oak.edu
SUMMARY:Baseball Double-Header
DESCRIPTION:
URL:https://www.oak.edu/event/baseball-double-header/
LOCATION:Pinnick Field
END:VEVENT
BEGIN:VEVENT
DTSTART;TZID=America/Chicago:20220212T130000
DTEND;TZID=America/Chicago:20220212T143000
DTSTAMP:20260421T155321
CREATED:20220210T190104Z
LAST-MODIFIED:20220212T202827Z
UID:10000429-1644670800-1644676200@www.oak.edu
SUMMARY:Men's Basketball
DESCRIPTION:
URL:https://www.oak.edu/event/mens-basketball/
LOCATION:Johnson Center\, 705 N Franklin St\, Oakland City\, IN 47660\, USA
END:VEVENT
BEGIN:VEVENT
DTSTART;TZID=America/Chicago:20220212T153000
DTEND;TZID=America/Chicago:20220212T170000
DTSTAMP:20260421T155321
CREATED:20220210T190104Z
LAST-MODIFIED:20220212T222712Z
UID:10000327-1644679800-1644685200@www.oak.edu
SUMMARY:Women's Basketball
DESCRIPTION:
URL:https://www.oak.edu/event/womens-basketball/
LOCATION:Johnson Center\, 705 N Franklin St\, Oakland City\, IN 47660\, USA
END:VEVENT
END:VCALENDAR