BEGIN:VCALENDAR
VERSION:2.0
PRODID:-//Oakland City University - ECPv6.15.17.1//NONSGML v1.0//EN
CALSCALE:GREGORIAN
METHOD:PUBLISH
X-ORIGINAL-URL:https://www.oak.edu
X-WR-CALDESC:Events for Oakland City University
REFRESH-INTERVAL;VALUE=DURATION:PT1H
X-Robots-Tag:noindex
X-PUBLISHED-TTL:PT1H
BEGIN:VTIMEZONE
TZID:America/Chicago
BEGIN:DAYLIGHT
TZOFFSETFROM:-0600
TZOFFSETTO:-0500
TZNAME:CDT
DTSTART:20250309T080000
END:DAYLIGHT
BEGIN:STANDARD
TZOFFSETFROM:-0500
TZOFFSETTO:-0600
TZNAME:CST
DTSTART:20251102T070000
END:STANDARD
BEGIN:DAYLIGHT
TZOFFSETFROM:-0600
TZOFFSETTO:-0500
TZNAME:CDT
DTSTART:20260308T080000
END:DAYLIGHT
BEGIN:STANDARD
TZOFFSETFROM:-0500
TZOFFSETTO:-0600
TZNAME:CST
DTSTART:20261101T070000
END:STANDARD
BEGIN:DAYLIGHT
TZOFFSETFROM:-0600
TZOFFSETTO:-0500
TZNAME:CDT
DTSTART:20270314T080000
END:DAYLIGHT
BEGIN:STANDARD
TZOFFSETFROM:-0500
TZOFFSETTO:-0600
TZNAME:CST
DTSTART:20271107T070000
END:STANDARD
END:VTIMEZONE
BEGIN:VEVENT
DTSTART;TZID=America/Chicago:20260422T110000
DTEND;TZID=America/Chicago:20260422T120000
DTSTAMP:20260421T103104
CREATED:20260327T201509Z
LAST-MODIFIED:20260421T143059Z
UID:10001283-1776855600-1776859200@www.oak.edu
SUMMARY:Recognition Awards Ceremony
DESCRIPTION:This is a Recognition Awards Ceremony for students\, family and friends of the recipients\, faculty and staff. We will be serving light refreshments after the ceremony.
URL:https://www.oak.edu/event/recognition-awards-ceremony-2/
LOCATION:Cornwell Reed 211
ORGANIZER;CN="cwoolsey@oak.edu":MAILTO:cwoolsey@oak.edu
END:VEVENT
BEGIN:VEVENT
DTSTART;TZID=America/Chicago:20260422T190000
DTEND;TZID=America/Chicago:20260422T194500
DTSTAMP:20260421T103104
CREATED:20260123T004501Z
LAST-MODIFIED:20260421T143102Z
UID:10001270-1776884400-1776887100@www.oak.edu
SUMMARY:SGA/CAB Meetings
DESCRIPTION:Senators and members of CAB discuss upcoming events\, student concenrs\, and other topics that need communication between clubs and organizations\n________________________________________________________________________________\nMicrosoft Teams Need help?\nJoin the meeting now\nMeeting ID: 233 291 263 890 9\nPasscode: JW6zu7sA\n________________________________\nFor organizers: Meeting options\n________________________________________________________________________________
URL:https://www.oak.edu/event/sga-cab-meetings-15/
LOCATION:SLC 210
ORGANIZER;CN="cwoolsey@oak.edu":MAILTO:cwoolsey@oak.edu
END:VEVENT
BEGIN:VEVENT
DTSTART;TZID=America/Chicago:20260423T170000
DTEND;TZID=America/Chicago:20260423T200000
DTSTAMP:20260421T103104
CREATED:20260327T201510Z
LAST-MODIFIED:20260421T143104Z
UID:10001284-1776963600-1776974400@www.oak.edu
SUMMARY:End of Year Bash
DESCRIPTION:The End of Year Bash is a dinner (meal plan) served outside on the grassy knoll\, with games and inflatables — for students to celebrate the end of the semester/academic year or last day of classes.
URL:https://www.oak.edu/event/end-of-year-bash-2/
LOCATION:Johnson Center (rain location)
ORGANIZER;CN="cwoolsey@oak.edu":MAILTO:cwoolsey@oak.edu
END:VEVENT
BEGIN:VEVENT
DTSTART;TZID=America/Chicago:20260429T083000
DTEND;TZID=America/Chicago:20260429T160000
DTSTAMP:20260421T103104
CREATED:20260327T201511Z
LAST-MODIFIED:20260421T142950Z
UID:10001285-1777451400-1777478400@www.oak.edu
SUMMARY:Board of Trustees Meetings
DESCRIPTION:April 29th = Board Room setup (SLC 208)\nApril 30th – May 1st = Board of Trustees Meetings
URL:https://www.oak.edu/event/board-of-trustees-meetings-4/
LOCATION:Bower-Suhrheinrich  208 (Pre-approved)
ORGANIZER;CN="cwoolsey@oak.edu":MAILTO:cwoolsey@oak.edu
END:VEVENT
BEGIN:VEVENT
DTSTART;TZID=America/Chicago:20260430T180000
DTEND;TZID=America/Chicago:20260430T200000
DTSTAMP:20260421T103104
CREATED:20260327T201511Z
LAST-MODIFIED:20260421T142950Z
UID:10001286-1777572000-1777579200@www.oak.edu
SUMMARY:Graduating Senior Dinner
DESCRIPTION:Dr. & Mrs. Dempsey host the graduating seniors\, parents\, and guests for dinner to celebrate their accomplishments.
URL:https://www.oak.edu/event/graduating-senior-dinner-4/
LOCATION:Johnson Center\, 199 N Franklin St\, Oakland City\, IN\, United States
ORGANIZER;CN="cwoolsey@oak.edu":MAILTO:cwoolsey@oak.edu
GEO:38.339633;-87.350909
X-APPLE-STRUCTURED-LOCATION;VALUE=URI;X-ADDRESS=Johnson Center 199 N Franklin St Oakland City IN United States;X-APPLE-RADIUS=500;X-TITLE=199 N Franklin St:geo:-87.350909,38.339633
END:VEVENT
END:VCALENDAR